BEGIN:VCALENDAR
VERSION:2.0
PRODID:-//Harbourview Church - ECPv6.15.20//NONSGML v1.0//EN
CALSCALE:GREGORIAN
METHOD:PUBLISH
X-WR-CALNAME:Harbourview Church
X-ORIGINAL-URL:https://www.harbourviewchurch.com
X-WR-CALDESC:Events for Harbourview Church
REFRESH-INTERVAL;VALUE=DURATION:PT1H
X-Robots-Tag:noindex
X-PUBLISHED-TTL:PT1H
BEGIN:VTIMEZONE
TZID:America/Vancouver
BEGIN:DAYLIGHT
TZOFFSETFROM:-0800
TZOFFSETTO:-0700
TZNAME:PDT
DTSTART:20150308T100000
END:DAYLIGHT
BEGIN:STANDARD
TZOFFSETFROM:-0700
TZOFFSETTO:-0800
TZNAME:PST
DTSTART:20151101T090000
END:STANDARD
BEGIN:DAYLIGHT
TZOFFSETFROM:-0800
TZOFFSETTO:-0700
TZNAME:PDT
DTSTART:20160313T100000
END:DAYLIGHT
BEGIN:STANDARD
TZOFFSETFROM:-0700
TZOFFSETTO:-0800
TZNAME:PST
DTSTART:20161106T090000
END:STANDARD
BEGIN:DAYLIGHT
TZOFFSETFROM:-0800
TZOFFSETTO:-0700
TZNAME:PDT
DTSTART:20170312T100000
END:DAYLIGHT
BEGIN:STANDARD
TZOFFSETFROM:-0700
TZOFFSETTO:-0800
TZNAME:PST
DTSTART:20171105T090000
END:STANDARD
BEGIN:DAYLIGHT
TZOFFSETFROM:-0800
TZOFFSETTO:-0700
TZNAME:PDT
DTSTART:20180311T100000
END:DAYLIGHT
BEGIN:STANDARD
TZOFFSETFROM:-0700
TZOFFSETTO:-0800
TZNAME:PST
DTSTART:20181104T090000
END:STANDARD
END:VTIMEZONE
BEGIN:VEVENT
DTSTART;TZID=America/Vancouver:20170507T100000
DTEND;TZID=America/Vancouver:20170507T233000
DTSTAMP:20260419T092248
CREATED:20170501T193935Z
LAST-MODIFIED:20170501T201832Z
UID:6190-1494151200-1494199800@www.harbourviewchurch.com
SUMMARY:Living our Prayer
DESCRIPTION:A new series about our Harbourview Church Prayer\n  \nFirst in the 4 part series: God Break my heart and open it
URL:https://www.harbourviewchurch.com/event/living-our-prayer/
LOCATION:Esquimalt Rec Centre Pioneer Room\, 527 Fraser St.\, Esquimalt\, BC\, V9A 6H6\, Canada
ATTACH;FMTTYPE=image/jpeg:https://www.harbourviewchurch.com/wp-content/uploads/2017/05/card-4.jpg
END:VEVENT
BEGIN:VEVENT
DTSTART;TZID=America/Vancouver:20170416T120000
DTEND;TZID=America/Vancouver:20170416T150000
DTSTAMP:20260419T092248
CREATED:20170412T192413Z
LAST-MODIFIED:20170412T192928Z
UID:6113-1492344000-1492354800@www.harbourviewchurch.com
SUMMARY:Esquimalt Lions Easter Egg Extravaganza
DESCRIPTION:Where: Esquimalt Gorge Park \nApril 16\, 2017 – 12:00PM to 3:00PM \nThe Esquimalt Lions are proud to bring you one of the most beloved events of the year: the annual Easter Egg Extravaganza at Gorge Park. Join The Q’s Chris the Roadie for entertainment\, food\, games\, face-painting\, possibly the always exciting bouncy castle (weather dependent) and OF COURSE\, a super duper excellent Easter Egg Hunt. \nSchedule of Events \n11 am : Concession opens\n12 – 1 pm: Easter Egg Hunt\n12-12:15 (aged 5 and under)\n12:15-12:30 (ages 6-9)\n12:30-12:45 (ages 10-12)\n1 – 2 pm: Games for all ages \nCome and join the Esquimalt Lions and Esquimalt Parks and Recreation for an egg-ceptional event for the whole family. \nNote: The Recreation Centre is open from 5:30 am-10:30 pm for the duration of the long weekend. Modified program schedules are in effect and can be viewed here. \nContact\nHolly Courtright\n250.412.8511\n– See more at: https://www.esquimalt.ca/news-events/events/esquimalt-lions-easter-egg-extravaganza#sthash.7cBcPgNy.dpuf \n 
URL:https://www.harbourviewchurch.com/event/esquimalt-lions-easter-egg-extravaganza/
ATTACH;FMTTYPE=image/jpeg:https://www.harbourviewchurch.com/wp-content/uploads/2017/04/easter-eggs.jpg
END:VEVENT
BEGIN:VEVENT
DTSTART;TZID=America/Vancouver:20170416T100000
DTEND;TZID=America/Vancouver:20170416T113000
DTSTAMP:20260419T092248
CREATED:20170412T193814Z
LAST-MODIFIED:20170412T193815Z
UID:6122-1492336800-1492342200@www.harbourviewchurch.com
SUMMARY:Easter Sunday
DESCRIPTION:Join Us for a time of Celebration.
URL:https://www.harbourviewchurch.com/event/easter-sunday/
LOCATION:Esquimalt Rec Centre Pioneer Room\, 527 Fraser St.\, Esquimalt\, BC\, V9A 6H6\, Canada
CATEGORIES:Sunday Gathering
ATTACH;FMTTYPE=image/jpeg:https://www.harbourviewchurch.com/wp-content/uploads/2017/04/he-is-risen_1200x675.jpg
END:VEVENT
BEGIN:VEVENT
DTSTART;TZID=America/Vancouver:20170326T100000
DTEND;TZID=America/Vancouver:20170326T233000
DTSTAMP:20260419T092248
CREATED:20170309T232724Z
LAST-MODIFIED:20170309T232724Z
UID:6030-1490522400-1490571000@www.harbourviewchurch.com
SUMMARY:Tune Your Ear to Hear
DESCRIPTION:Hebrews 12: 13-28\nPastor Paul
URL:https://www.harbourviewchurch.com/event/tune-ear-hear/
ATTACH;FMTTYPE=image/jpeg:https://www.harbourviewchurch.com/wp-content/uploads/2016/10/hebrews-series.jpg
END:VEVENT
BEGIN:VEVENT
DTSTART;TZID=America/Vancouver:20170319T100000
DTEND;TZID=America/Vancouver:20170319T233000
DTSTAMP:20260419T092248
CREATED:20170309T232455Z
LAST-MODIFIED:20170309T232455Z
UID:6028-1489917600-1489966200@www.harbourviewchurch.com
SUMMARY:Love to discipline
DESCRIPTION:Hebrews 12: 1-12\nPastor Paul
URL:https://www.harbourviewchurch.com/event/love-to-discipline/
LOCATION:Esquimalt Rec Centre Pioneer Room\, 527 Fraser St.\, Esquimalt\, BC\, V9A 6H6\, Canada
ATTACH;FMTTYPE=image/jpeg:https://www.harbourviewchurch.com/wp-content/uploads/2016/10/hebrews-series.jpg
END:VEVENT
BEGIN:VEVENT
DTSTART;TZID=America/Vancouver:20170312T100000
DTEND;TZID=America/Vancouver:20170312T113000
DTSTAMP:20260419T092248
CREATED:20170309T232054Z
LAST-MODIFIED:20170309T232054Z
UID:6026-1489312800-1489318200@www.harbourviewchurch.com
SUMMARY:Something Better in Mind
DESCRIPTION:Hebrews 11:17-39\nBob Opperman
URL:https://www.harbourviewchurch.com/event/something-better-mind/
LOCATION:Esquimalt Rec Centre Pioneer Room\, 527 Fraser St.\, Esquimalt\, BC\, V9A 6H6\, Canada
ATTACH;FMTTYPE=image/jpeg:https://www.harbourviewchurch.com/wp-content/uploads/2016/10/hebrews-series.jpg
END:VEVENT
BEGIN:VEVENT
DTSTART;TZID=America/Vancouver:20170305T190000
DTEND;TZID=America/Vancouver:20170305T203000
DTSTAMP:20260419T092248
CREATED:20170301T172433Z
LAST-MODIFIED:20170301T172433Z
UID:5880-1488740400-1488745800@www.harbourviewchurch.com
SUMMARY:A Concert of Prayer
DESCRIPTION:Focusing our prayers on current local ministries. \nSponsored by the Esquimalt & Area Christian Leaders Association.
URL:https://www.harbourviewchurch.com/event/a-concert-of-prayer/
ATTACH;FMTTYPE=image/jpeg:https://www.harbourviewchurch.com/wp-content/uploads/2017/03/a-concert-of-prayer.jpg
END:VEVENT
BEGIN:VEVENT
DTSTART;TZID=America/Vancouver:20170226T100000
DTEND;TZID=America/Vancouver:20170226T113000
DTSTAMP:20260419T092248
CREATED:20170220T214514Z
LAST-MODIFIED:20170220T214514Z
UID:5859-1488103200-1488108600@www.harbourviewchurch.com
SUMMARY:Keep the Rubber on the Road
DESCRIPTION:Keep the Rubber on the Road\nHebrews 10:19-39 \nSpeaker: Pastor Paul
URL:https://www.harbourviewchurch.com/event/keep-rubber-road/
LOCATION:Esquimalt Rec Centre Pioneer Room\, 527 Fraser St.\, Esquimalt\, BC\, V9A 6H6\, Canada
ATTACH;FMTTYPE=image/jpeg:https://www.harbourviewchurch.com/wp-content/uploads/2016/10/hebrews-series.jpg
ORGANIZER;CN="Harbourview Church":MAILTO:info@harbourviewchurch.com
END:VEVENT
BEGIN:VEVENT
DTSTART;TZID=America/Vancouver:20170220T190000
DTEND;TZID=America/Vancouver:20170220T200000
DTSTAMP:20260419T092248
CREATED:20170220T220637Z
LAST-MODIFIED:20170220T231638Z
UID:5868-1487617200-1487620800@www.harbourviewchurch.com
SUMMARY:Life Group
DESCRIPTION:Grace Changes Everything\nGospel in Life Series by Tim Keller\n \nArnie & Linda Toews\nGroup @ 7:00\nHosted @ Kenin & Josie Terlesky\nCell 250-516-8455
URL:https://www.harbourviewchurch.com/event/life-group/
ATTACH;FMTTYPE=image/jpeg:https://www.harbourviewchurch.com/wp-content/uploads/2017/02/life-group.jpg
END:VEVENT
BEGIN:VEVENT
DTSTART;TZID=America/Vancouver:20170220T183000
DTEND;TZID=America/Vancouver:20170220T200000
DTSTAMP:20260419T092248
CREATED:20170220T220728Z
LAST-MODIFIED:20170220T220938Z
UID:5862-1487615400-1487620800@www.harbourviewchurch.com
SUMMARY:Life Group
DESCRIPTION:Grace Changes Everything\nGospel in Life Series by Tim Keller\n\nTerry & Debbie Hopkins leading\n6:30 for coffee – group @ 7:00\nHosted @ Debbie & Terry Hopkins\nCell 250-213-7284\n 
URL:https://www.harbourviewchurch.com/event/life-groups/
ATTACH;FMTTYPE=image/jpeg:https://www.harbourviewchurch.com/wp-content/uploads/2017/02/life-group.jpg
END:VEVENT
BEGIN:VEVENT
DTSTART;TZID=America/Vancouver:20170219T100000
DTEND;TZID=America/Vancouver:20170219T120000
DTSTAMP:20260419T092248
CREATED:20170209T052447Z
LAST-MODIFIED:20170209T052447Z
UID:5774-1487498400-1487505600@www.harbourviewchurch.com
SUMMARY:All by One and Once for All
DESCRIPTION:Hebrews 10:1-18 \nSpeaker: Pastor Paul
URL:https://www.harbourviewchurch.com/event/all-by-one-and-once-for-all/
LOCATION:Esquimalt Rec Centre Pioneer Room\, 527 Fraser St.\, Esquimalt\, BC\, V9A 6H6\, Canada
ATTACH;FMTTYPE=image/jpeg:https://www.harbourviewchurch.com/wp-content/uploads/2016/10/hebrews-series.jpg
END:VEVENT
BEGIN:VEVENT
DTSTART;TZID=America/Vancouver:20170212T100000
DTEND;TZID=America/Vancouver:20170212T120000
DTSTAMP:20260419T092248
CREATED:20170208T200248Z
LAST-MODIFIED:20170208T200657Z
UID:5735-1486893600-1486900800@www.harbourviewchurch.com
SUMMARY:Living in a Shadow
DESCRIPTION:[column width=”1/1″ last=”true” title=”” title_type=”single” animation=”none” implicit=”true”] \nHebrews 9\nSpeaker: Darin Reimer \n[/column]
URL:https://www.harbourviewchurch.com/event/living-in-a-shadow/
LOCATION:Esquimalt Rec Centre Pioneer Room\, 527 Fraser St.\, Esquimalt\, BC\, V9A 6H6\, Canada
ATTACH;FMTTYPE=image/jpeg:https://www.harbourviewchurch.com/wp-content/uploads/2016/10/hebrews-series.jpg
END:VEVENT
BEGIN:VEVENT
DTSTART;TZID=America/Vancouver:20170205T120000
DTEND;TZID=America/Vancouver:20170205T140000
DTSTAMP:20260419T092248
CREATED:20170104T172927Z
LAST-MODIFIED:20170104T172927Z
UID:5538-1486296000-1486303200@www.harbourviewchurch.com
SUMMARY:Family Meeting!
DESCRIPTION:Family meeting pot luck following  February 5th 2017 Gathering. \nBring a dish to share as we talk about our vision\, mission and financial updates. Looking forward to an exciting time to share\, learn and praise what God has done and is doing as we more forward in 2017.
URL:https://www.harbourviewchurch.com/event/family-meeting/
ATTACH;FMTTYPE=image/jpeg:https://www.harbourviewchurch.com/wp-content/uploads/2017/01/pot-luck.jpg
END:VEVENT
BEGIN:VEVENT
DTSTART;TZID=America/Vancouver:20170205T100000
DTEND;TZID=America/Vancouver:20170205T113000
DTSTAMP:20260419T092248
CREATED:20170208T200118Z
LAST-MODIFIED:20170208T200119Z
UID:5733-1486288800-1486294200@www.harbourviewchurch.com
SUMMARY:Jackpot with Jesus
DESCRIPTION:[column width=”1/1″ last=”true” title=”” title_type=”single” animation=”none” implicit=”true”] \nHebrews 8\nSpeaker: Pastor Paul \n[/column]
URL:https://www.harbourviewchurch.com/event/jackpot-with-jesus/
ATTACH;FMTTYPE=image/jpeg:https://www.harbourviewchurch.com/wp-content/uploads/2016/10/hebrews-series.jpg
END:VEVENT
BEGIN:VEVENT
DTSTART;TZID=America/Vancouver:20170129T100000
DTEND;TZID=America/Vancouver:20170129T120000
DTSTAMP:20260419T092248
CREATED:20170106T005236Z
LAST-MODIFIED:20170106T005236Z
UID:5569-1485684000-1485691200@www.harbourviewchurch.com
SUMMARY:Jesus puts the Mel in Melchizedek
DESCRIPTION:[column width=”1/1″ last=”true” title=”” title_type=”single” animation=”none” implicit=”true”] \nHebrews Series Jesus is better \nHebrews 7 \nSpeaker: Pastor Paul \n[/column]
URL:https://www.harbourviewchurch.com/event/jesus-puts-mel-melchizedek/
CATEGORIES:Sunday Gathering
ATTACH;FMTTYPE=image/jpeg:https://www.harbourviewchurch.com/wp-content/uploads/2016/10/hebrews-series.jpg
END:VEVENT
BEGIN:VEVENT
DTSTART;TZID=America/Vancouver:20170122T100000
DTEND;TZID=America/Vancouver:20170122T120000
DTSTAMP:20260419T092248
CREATED:20170106T005018Z
LAST-MODIFIED:20170108T002824Z
UID:5567-1485079200-1485086400@www.harbourviewchurch.com
SUMMARY:Reminder of the Promises of God
DESCRIPTION:[column width=”1/1″ last=”true” title=”” title_type=”single” animation=”none” implicit=”true”] \nHebrews Series Jesus is Better \nHebrews 6:9-20 \nSpeaker: Pastor Arnie \n[/column] \n[column width=”1/1″ last=”true” title=”” title_type=”single” implicit=”true”] \n[portfolio layout=”” nopaging=”” column=”4″ max=”4″ title=”false” desc=”” more=”Read more” group=”1″ cat=”” ids=””] \n[/portfolio] \n[/column]
URL:https://www.harbourviewchurch.com/event/reminder-promises-god/
CATEGORIES:Sunday Gathering
ATTACH;FMTTYPE=image/jpeg:https://www.harbourviewchurch.com/wp-content/uploads/2016/10/hebrews-series.jpg
END:VEVENT
BEGIN:VEVENT
DTSTART;TZID=America/Vancouver:20170115T100000
DTEND;TZID=America/Vancouver:20170115T233000
DTSTAMP:20260419T092248
CREATED:20170106T004740Z
LAST-MODIFIED:20170106T004740Z
UID:5564-1484474400-1484523000@www.harbourviewchurch.com
SUMMARY:From Immaturity to Maturity
DESCRIPTION:[column width=”1/1″ last=”true” title=”” title_type=”single” animation=”none” implicit=”true”] \nHebrews Jesus is Better Series \nHebrews 5:11-6:12 \nSpeaker: Pastor Paul \n[/column]
URL:https://www.harbourviewchurch.com/event/from-immaturity-to-maturity/
CATEGORIES:Sunday Gathering
ATTACH;FMTTYPE=image/jpeg:https://www.harbourviewchurch.com/wp-content/uploads/2016/10/hebrews-series.jpg
END:VEVENT
BEGIN:VEVENT
DTSTART;TZID=America/Vancouver:20170108T100000
DTEND;TZID=America/Vancouver:20170108T113000
DTSTAMP:20260419T092248
CREATED:20161231T233839Z
LAST-MODIFIED:20161231T235229Z
UID:5512-1483869600-1483875000@www.harbourviewchurch.com
SUMMARY:How High can a High Priest jump?
DESCRIPTION:[column width=”1/1″ last=”true” title=”” title_type=”single” animation=”none” implicit=”true”] \nContinuing with our Jesus is Better series Hebrews \nHebrews: 4:14-5:10 How High can a High Priest jump? \n[/column]
URL:https://www.harbourviewchurch.com/event/high-can-high-priest-jump/
CATEGORIES:Sunday Gathering
ATTACH;FMTTYPE=image/jpeg:https://www.harbourviewchurch.com/wp-content/uploads/2016/10/hebrews-series.jpg
END:VEVENT
BEGIN:VEVENT
DTSTART;TZID=America/Vancouver:20161230T183000
DTEND;TZID=America/Vancouver:20161230T193000
DTSTAMP:20260419T092248
CREATED:20161224T010124Z
LAST-MODIFIED:20161224T010124Z
UID:5438-1483122600-1483126200@www.harbourviewchurch.com
SUMMARY:Happy New Year!
DESCRIPTION:Join Us\nDecember 30th  \nFriday meeting @ 6:30 Seniors Room
URL:https://www.harbourviewchurch.com/event/happy-new-year/
CATEGORIES:Sunday Gathering
ATTACH;FMTTYPE=image/jpeg:https://www.harbourviewchurch.com/wp-content/uploads/2016/12/happy-new-year-e1482541233711.jpg
END:VEVENT
BEGIN:VEVENT
DTSTART;TZID=America/Vancouver:20161223T183000
DTEND;TZID=America/Vancouver:20161223T193000
DTSTAMP:20260419T092248
CREATED:20161219T040737Z
LAST-MODIFIED:20161223T201119Z
UID:5223-1482517800-1482521400@www.harbourviewchurch.com
SUMMARY:Harbourview Christmas Gathering
DESCRIPTION:[column parallax_bg=”disabled” parallax_bg_inertia=”-0.2″ extended=”” extended_padding=”1″ background_color=”” background_image=”” background_repeat=”” background_position=”” background_size=”auto” background_attachment=”” hide_bg_lowres=”” background_video=”” vertical_padding_top=”0″ vertical_padding_bottom=”0″ more_link=”” more_text=”” left_border=”transparent” class=”” id=”” title=”” title_type=”single” animation=”none” width=”1/1″ last=”true”] \n[column_1 width=”1/1″ last=”true” title=”” title_type=”single” animation=”none” implicit=”true”] \nFriday @ 6:30 Seniors Room\nHarbourview Christmas Gathering\nSong\, treats and a time to be thankful. \n \n[/column_1] \n[/column]
URL:https://www.harbourviewchurch.com/event/harbourview-christmas-gathering/
CATEGORIES:Sunday Gathering
ATTACH;FMTTYPE=image/jpeg:https://www.harbourviewchurch.com/wp-content/uploads/2016/12/christmas-gathering.jpg
END:VEVENT
END:VCALENDAR